BEGIN:VCALENDAR
VERSION:2.0
PRODID:-//CGMMP - ECPv6.11.2.1//NONSGML v1.0//EN
CALSCALE:GREGORIAN
METHOD:PUBLISH
X-ORIGINAL-URL:https://cgmmp.fr
X-WR-CALDESC:Évènements pour CGMMP
REFRESH-INTERVAL;VALUE=DURATION:PT1H
X-Robots-Tag:noindex
X-PUBLISHED-TTL:PT1H
BEGIN:VTIMEZONE
TZID:Europe/Paris
BEGIN:DAYLIGHT
TZOFFSETFROM:+0100
TZOFFSETTO:+0200
TZNAME:CEST
DTSTART:20190331T010000
END:DAYLIGHT
BEGIN:STANDARD
TZOFFSETFROM:+0200
TZOFFSETTO:+0100
TZNAME:CET
DTSTART:20191027T010000
END:STANDARD
BEGIN:DAYLIGHT
TZOFFSETFROM:+0100
TZOFFSETTO:+0200
TZNAME:CEST
DTSTART:20200329T010000
END:DAYLIGHT
BEGIN:STANDARD
TZOFFSETFROM:+0200
TZOFFSETTO:+0100
TZNAME:CET
DTSTART:20201025T010000
END:STANDARD
END:VTIMEZONE
BEGIN:VEVENT
DTSTART;TZID=Europe/Paris:20201009T083000
DTEND;TZID=Europe/Paris:20201010T170000
DTSTAMP:20260424T155912
CREATED:20200220T173303Z
LAST-MODIFIED:20200220T173303Z
UID:902-1602232200-1602349200@cgmmp.fr
SUMMARY:EPUNG - HPV dans tous ses états / Infertilité
DESCRIPTION:
URL:https://cgmmp.fr/formation/epung-hpv-dans-tous-ses-etats-infertilite/
LOCATION:Faculté de Médecine\, Paris\, 45 rue des Saint Pères\, Paris\, 75006\, France
CATEGORIES:Formations des autres organismes
END:VEVENT
BEGIN:VEVENT
DTSTART;VALUE=DATE:20190614
DTEND;VALUE=DATE:20190616
DTSTAMP:20260424T155912
CREATED:20190407T204639Z
LAST-MODIFIED:20190407T205054Z
UID:764-1560470400-1560643199@cgmmp.fr
SUMMARY:7es Assises Nationales de Gynécologie - Tours
DESCRIPTION:Les 7 ème Assises Nationales de Gynécologie Médicale se tiendront cette année à Tours\, au Palais des Congrès. \n 
URL:https://cgmmp.fr/formation/7es-assises-nationales-de-gynecologie-tours/
LOCATION:Palais des Congrès Tours\, 26 Boulevard Heurteloup\, Tours\, 37000\, France
CATEGORIES:Formations des autres organismes
END:VEVENT
BEGIN:VEVENT
DTSTART;VALUE=DATE:20190315
DTEND;VALUE=DATE:20190317
DTSTAMP:20260424T155912
CREATED:20190213T035334Z
LAST-MODIFIED:20190214T023606Z
UID:595-1552608000-1552780799@cgmmp.fr
SUMMARY:EPUNG - Le vagin - L'homme et le gynécologue
DESCRIPTION:
URL:https://cgmmp.fr/formation/epung-le-vagin-lhomme-et-le-gynecologue/
LOCATION:Faculté de Médecine\, Paris\, 45 rue des Saint Pères\, Paris\, 75006\, France
CATEGORIES:Formations des autres organismes
END:VEVENT
END:VCALENDAR